BEGIN:VCALENDAR
VERSION:2.0
PRODID:-//Bloomington Symphony Orchestra - Indiana - ECPv6.15.10//NONSGML v1.0//EN
CALSCALE:GREGORIAN
METHOD:PUBLISH
X-ORIGINAL-URL:https://www.bloomingtonsymphony.com
X-WR-CALDESC:Events for Bloomington Symphony Orchestra - Indiana
REFRESH-INTERVAL;VALUE=DURATION:PT1H
X-Robots-Tag:noindex
X-PUBLISHED-TTL:PT1H
BEGIN:VTIMEZONE
TZID:America/Indiana/Indianapolis
BEGIN:DAYLIGHT
TZOFFSETFROM:-0500
TZOFFSETTO:-0400
TZNAME:EDT
DTSTART:20240310T070000
END:DAYLIGHT
BEGIN:STANDARD
TZOFFSETFROM:-0400
TZOFFSETTO:-0500
TZNAME:EST
DTSTART:20241103T060000
END:STANDARD
BEGIN:DAYLIGHT
TZOFFSETFROM:-0500
TZOFFSETTO:-0400
TZNAME:EDT
DTSTART:20250309T070000
END:DAYLIGHT
BEGIN:STANDARD
TZOFFSETFROM:-0400
TZOFFSETTO:-0500
TZNAME:EST
DTSTART:20251102T060000
END:STANDARD
BEGIN:DAYLIGHT
TZOFFSETFROM:-0500
TZOFFSETTO:-0400
TZNAME:EDT
DTSTART:20260308T070000
END:DAYLIGHT
BEGIN:STANDARD
TZOFFSETFROM:-0400
TZOFFSETTO:-0500
TZNAME:EST
DTSTART:20261101T060000
END:STANDARD
END:VTIMEZONE
BEGIN:VEVENT
DTSTART;TZID=America/Indiana/Indianapolis:20251019T170000
DTEND;TZID=America/Indiana/Indianapolis:20251019T183000
DTSTAMP:20260424T000644
CREATED:20250606T182653Z
LAST-MODIFIED:20251008T203216Z
UID:5345-1760893200-1760898600@www.bloomingtonsymphony.com
SUMMARY:Otherwhere - Concert at the Buskirk-Chumley Theater
DESCRIPTION:CLICK HERE for tickets\navailable through the Buskirk-Chumley Box Office.\nChildren FREE\, Students $16\, Adults $29.\nGeneral Admission Seating \n  \nMusic opens up new horizons – to places we’ve always longed to see\, or maybe even places we’ve only imagined. This October\, please join us and our friends from My Sister’s Closet as we explore the boundaries of imagination in Otherwhere. \nOn the program: \nGabriela Ortiz described her work Antrópolis “as the sonorous reflection of a city through its experiences…in this very complex but fascinating Mexico City.” \nFelix Mendelssohn’s Piano Concerto No. 1 in G minor\, Opus 25 (1st movement) featuring Youth Concerto Competition winner Solar Manley \nAmy Beach’s Gaelic Symphony pays tribute\, in her own words\, to the “simple\, rugged\, and unpretentious beauty” of traditional Irish folksongs. \nSunday\, October 19\, 2025\, Buskirk-Chumley Theater\n4pm Pre-concert talk with our friends from My Sister’s Closet\n5pm Concert
URL:https://www.bloomingtonsymphony.com/event/otherwhere/
LOCATION:Buskirk-Chumley Theater\, 114 E. Kirkwood Avenue\, Bloomington\, IN\, 47408\, United States
ORGANIZER;CN="Bloomington Symphony Orchestra":MAILTO:bso@bloomingtonsymphony.com
END:VEVENT
END:VCALENDAR