BEGIN:VCALENDAR
VERSION:2.0
PRODID:-//Bloomington Symphony Orchestra - Indiana - ECPv6.15.10//NONSGML v1.0//EN
CALSCALE:GREGORIAN
METHOD:PUBLISH
X-ORIGINAL-URL:https://www.bloomingtonsymphony.com
X-WR-CALDESC:Events for Bloomington Symphony Orchestra - Indiana
REFRESH-INTERVAL;VALUE=DURATION:PT1H
X-Robots-Tag:noindex
X-PUBLISHED-TTL:PT1H
BEGIN:VTIMEZONE
TZID:America/Indiana/Indianapolis
BEGIN:DAYLIGHT
TZOFFSETFROM:-0500
TZOFFSETTO:-0400
TZNAME:EDT
DTSTART:20240310T070000
END:DAYLIGHT
BEGIN:STANDARD
TZOFFSETFROM:-0400
TZOFFSETTO:-0500
TZNAME:EST
DTSTART:20241103T060000
END:STANDARD
BEGIN:DAYLIGHT
TZOFFSETFROM:-0500
TZOFFSETTO:-0400
TZNAME:EDT
DTSTART:20250309T070000
END:DAYLIGHT
BEGIN:STANDARD
TZOFFSETFROM:-0400
TZOFFSETTO:-0500
TZNAME:EST
DTSTART:20251102T060000
END:STANDARD
BEGIN:DAYLIGHT
TZOFFSETFROM:-0500
TZOFFSETTO:-0400
TZNAME:EDT
DTSTART:20260308T070000
END:DAYLIGHT
BEGIN:STANDARD
TZOFFSETFROM:-0400
TZOFFSETTO:-0500
TZNAME:EST
DTSTART:20261101T060000
END:STANDARD
END:VTIMEZONE
BEGIN:VEVENT
DTSTART;TZID=America/Indiana/Indianapolis:20250824T190000
DTEND;TZID=America/Indiana/Indianapolis:20250824T203000
DTSTAMP:20260424T024519
CREATED:20250606T182448Z
LAST-MODIFIED:20250805T161651Z
UID:5343-1756062000-1756067400@www.bloomingtonsymphony.com
SUMMARY:Toe-Tappin’ - FREE Concert at Switchyard Park
DESCRIPTION:Toe-Tappin’ with the Bloomington Jazz Orchestra\nThe BSO kicks off its 56th season\, Between Friends\, with a FREE concert at the Switchyard Park Main Stage. \nBring a blanket\, a picnic\, and sit back to enjoy some hot jazz on a summer evening as we groove with our friends from the Bloomington Jazz Orchestra\, and dance along with the Swing Dance Club at IU. \nFeaturing music of Basie\, Gershwin\, Ellington and others\, this concert will really put the swing in your step! \n6pm: Swing dance lesson with the Swing Dance Club at IU. No experience or partner needed!\n6pm: Instrument Petting Zoo – for kids of all ages! Get up close and personal with the instruments of the symphony.\n7pm: Concert with the BSO and BJO \n \nSunday\, August 24\, 7pm  at Switchyard Park Main Stage \nFREE
URL:https://www.bloomingtonsymphony.com/event/toetappin/
LOCATION:Switchyard Park Main Stage\, 1601 S Rogers St\, Bloomington\, IN\, 47403\, United States
ORGANIZER;CN="Bloomington Symphony Orchestra":MAILTO:bso@bloomingtonsymphony.com
END:VEVENT
END:VCALENDAR