BEGIN:VCALENDAR
VERSION:2.0
PRODID:-//Bloomington Symphony Orchestra - Indiana - ECPv6.15.10//NONSGML v1.0//EN
CALSCALE:GREGORIAN
METHOD:PUBLISH
X-ORIGINAL-URL:https://www.bloomingtonsymphony.com
X-WR-CALDESC:Events for Bloomington Symphony Orchestra - Indiana
REFRESH-INTERVAL;VALUE=DURATION:PT1H
X-Robots-Tag:noindex
X-PUBLISHED-TTL:PT1H
BEGIN:VTIMEZONE
TZID:America/Indiana/Indianapolis
BEGIN:DAYLIGHT
TZOFFSETFROM:-0500
TZOFFSETTO:-0400
TZNAME:EDT
DTSTART:20240310T070000
END:DAYLIGHT
BEGIN:STANDARD
TZOFFSETFROM:-0400
TZOFFSETTO:-0500
TZNAME:EST
DTSTART:20241103T060000
END:STANDARD
BEGIN:DAYLIGHT
TZOFFSETFROM:-0500
TZOFFSETTO:-0400
TZNAME:EDT
DTSTART:20250309T070000
END:DAYLIGHT
BEGIN:STANDARD
TZOFFSETFROM:-0400
TZOFFSETTO:-0500
TZNAME:EST
DTSTART:20251102T060000
END:STANDARD
BEGIN:DAYLIGHT
TZOFFSETFROM:-0500
TZOFFSETTO:-0400
TZNAME:EDT
DTSTART:20260308T070000
END:DAYLIGHT
BEGIN:STANDARD
TZOFFSETFROM:-0400
TZOFFSETTO:-0500
TZNAME:EST
DTSTART:20261101T060000
END:STANDARD
END:VTIMEZONE
BEGIN:VEVENT
DTSTART;TZID=America/Indiana/Indianapolis:20250604T190000
DTEND;TZID=America/Indiana/Indianapolis:20250604T203000
DTSTAMP:20260424T054127
CREATED:20250511T180012Z
LAST-MODIFIED:20250604T150043Z
UID:5295-1749063600-1749069000@www.bloomingtonsymphony.com
SUMMARY:BSO Mixtape - A Free Chamber Concert
DESCRIPTION:Join us as we celebrate the start of the summer with some beautiful chamber music from our talented BSO musicians. \nSchubert String Quintet\nThuille Woodwind Sextet\nTchaikovsky Serenade for Strings\nClara Schumann Piano trio\nPiazzola\n…and MORE! \nNo ticket needed. Free entrance – donations always appreciated: bloomingtonsymphony.com/donate
URL:https://www.bloomingtonsymphony.com/event/mixtape/
LOCATION:First United Church\, 2420 E 3rd St\, Bloomington\, IN\, 47401\, United States
ATTACH;FMTTYPE=image/png:https://www.bloomingtonsymphony.com/wp-content/uploads/2025/05/Mixtape-Header-for-program.png
ORGANIZER;CN="Bloomington Symphony Orchestra":MAILTO:bso@bloomingtonsymphony.com
END:VEVENT
BEGIN:VEVENT
DTSTART;TZID=America/Indiana/Indianapolis:20250617T173000
DTEND;TZID=America/Indiana/Indianapolis:20250617T183000
DTSTAMP:20260424T054127
CREATED:20250511T181628Z
LAST-MODIFIED:20250613T185808Z
UID:5299-1750181400-1750185000@www.bloomingtonsymphony.com
SUMMARY:BSO Annual Meeting
DESCRIPTION:You are cordially invited to the Bloomington Symphony Orchestra’s Annual Meeting on Tuesday\, June 17 at 5:30pm. This meeting is open to the public and will be held in person in Meeting Room A/B Combo at the Southwest Branch of the Monroe County Public Library. Join us for refreshements starting at 5pm. \n\n\nThe main purpose of the Annual Meeting is to provide a State of the Orchestra and for members to vote in new board members. Please let us know by June 3 if you are interested in joining the BSO board of directors. \n\n\nWhile the Annual Meeting is open to the public\,  voting members must meet one or more of the following requirements:–Performing musicians who have participated in at least 50% of full orchestra performances during the 2024-25 season OR at least 30% of full orchestra performances during the previous 2 seasons–Individual donors of $25 or more–Corporate donors of $125 or more – one representative of the corporation receives a vote. \n\n\nIf you are elligible to vote\, you can do so here: 2025 BSO Ballot. Voting closes at 11:59 EDT on Wednesday\, June 18\, 2025. We have three potential new board members that need to be voted on\, so please submit your ballot on time. If you cannot attend in person\, you can  participate via this zoom link:\nAnnual Meeting Zoom link\, or Meeting ID: 893 8321 3099\, Passcode: BSO \n\nAn email invitation was sent to all members on May 16. If you are a member and did not receive an email\, please contact us at us: bso@bloomingtonsymphony.com \n\nThank you so much for being a part of the BSO’s 55th season\, and we look forward to seeing you on June 17!\n 
URL:https://www.bloomingtonsymphony.com/event/2025annualmeeting/
LOCATION:MCPL Southwest Branch\, 890 W. Gordon Pike\, Bloomington\, IN\, 47403
ORGANIZER;CN="Bloomington Symphony Orchestra":MAILTO:bso@bloomingtonsymphony.com
END:VEVENT
END:VCALENDAR