BEGIN:VCALENDAR
VERSION:2.0
PRODID:-//Bloomington Symphony Orchestra - Indiana - ECPv6.15.10//NONSGML v1.0//EN
CALSCALE:GREGORIAN
METHOD:PUBLISH
X-ORIGINAL-URL:https://www.bloomingtonsymphony.com
X-WR-CALDESC:Events for Bloomington Symphony Orchestra - Indiana
REFRESH-INTERVAL;VALUE=DURATION:PT1H
X-Robots-Tag:noindex
X-PUBLISHED-TTL:PT1H
BEGIN:VTIMEZONE
TZID:America/Indiana/Indianapolis
BEGIN:DAYLIGHT
TZOFFSETFROM:-0500
TZOFFSETTO:-0400
TZNAME:EDT
DTSTART:20240310T070000
END:DAYLIGHT
BEGIN:STANDARD
TZOFFSETFROM:-0400
TZOFFSETTO:-0500
TZNAME:EST
DTSTART:20241103T060000
END:STANDARD
BEGIN:DAYLIGHT
TZOFFSETFROM:-0500
TZOFFSETTO:-0400
TZNAME:EDT
DTSTART:20250309T070000
END:DAYLIGHT
BEGIN:STANDARD
TZOFFSETFROM:-0400
TZOFFSETTO:-0500
TZNAME:EST
DTSTART:20251102T060000
END:STANDARD
BEGIN:DAYLIGHT
TZOFFSETFROM:-0500
TZOFFSETTO:-0400
TZNAME:EDT
DTSTART:20260308T070000
END:DAYLIGHT
BEGIN:STANDARD
TZOFFSETFROM:-0400
TZOFFSETTO:-0500
TZNAME:EST
DTSTART:20261101T060000
END:STANDARD
END:VTIMEZONE
BEGIN:VEVENT
DTSTART;TZID=America/Indiana/Indianapolis:20250504T180000
DTEND;TZID=America/Indiana/Indianapolis:20250504T210000
DTSTAMP:20260424T070814
CREATED:20250223T192842Z
LAST-MODIFIED:20250416T211129Z
UID:5211-1746381600-1746392400@www.bloomingtonsymphony.com
SUMMARY:Get in the Groove Gala- Celebrating 1969 to Now with the BSO
DESCRIPTION:1969 was a year to remember. The Moon Landing. Woodstock. Sesame Street’s first season. The founding of our beloved Bloomington Symphony Orchestra. \nOur upcoming gala celebrates some of the milestones of that fabulous year. \n– Get down and get funky with a DJ / Karaoke spinning all your favorite tunes from the late 60s and early 70s\n– Look your coolest\, dude\, at our super hip photo booth\n– Enjoy fun snacks (included in ticket price)\, and themed cocktails (for card purchase)\n– We’ll also have a short program about the BSO’s past\, present and future\, and other fun ways for you to celebrate our milestone season. \nSo dust off those bell bottoms and the tie dye\, and join us for a groovy evening of peace\, love\, and music. It’s going to be outta sight! \n\n\nGet your tickets here!
URL:https://www.bloomingtonsymphony.com/event/bsogroove/
LOCATION:Buskirk-Chumley Theater\, 114 E. Kirkwood Avenue\, Bloomington\, IN\, 47408\, United States
ATTACH;FMTTYPE=image/png:https://www.bloomingtonsymphony.com/wp-content/uploads/2025/02/Groovy-Gala-Tix-.png
ORGANIZER;CN="Bloomington Symphony Orchestra":MAILTO:bso@bloomingtonsymphony.com
END:VEVENT
BEGIN:VEVENT
DTSTART;TZID=America/Indiana/Indianapolis:20250518T170000
DTEND;TZID=America/Indiana/Indianapolis:20250518T190000
DTSTAMP:20260424T070814
CREATED:20240705T151609Z
LAST-MODIFIED:20250406T201602Z
UID:4923-1747587600-1747594800@www.bloomingtonsymphony.com
SUMMARY:BSO Past\, Present\, and Future
DESCRIPTION:The capstone of our 55th anniversary season begins with a trip down memory lane\, as we recreate the opening of the BSO’s very first concert with Nicolai’s Merry Wives of Windsor Overture. Our Youth Concerto Competition Winner\, Catelijne Hunt\, shows us the talent of future musical generations with Saint-Saëns’s Introduction and Rondo Capriccioso\, and we will revel in the artistry of our musicians of today with Sibelius’s Symphony No. 2. We’ve been making music with our community for 55 seasons; we hope that our audience at this concert will continue to celebrate with us the many reasons we love calling Bloomington our home. \nMay 18\, 2025 at 5pm\nBuskirk-Chumley Theater \nGet your tickets HERE \nOr contact the Buskirk-Chumley Theater Box Office at 812-323-3020\nAdult $25\, Student $12\, Ages 18 and under FREE
URL:https://www.bloomingtonsymphony.com/event/pastandfuture/
LOCATION:Buskirk-Chumley Theater\, 114 E. Kirkwood Avenue\, Bloomington\, IN\, 47408\, United States
ORGANIZER;CN="Bloomington Symphony Orchestra":MAILTO:bso@bloomingtonsymphony.com
END:VEVENT
END:VCALENDAR