BEGIN:VCALENDAR
VERSION:2.0
PRODID:-//Bloomington Symphony Orchestra - Indiana - ECPv6.15.10//NONSGML v1.0//EN
CALSCALE:GREGORIAN
METHOD:PUBLISH
X-WR-CALNAME:Bloomington Symphony Orchestra - Indiana
X-ORIGINAL-URL:https://www.bloomingtonsymphony.com
X-WR-CALDESC:Events for Bloomington Symphony Orchestra - Indiana
REFRESH-INTERVAL;VALUE=DURATION:PT1H
X-Robots-Tag:noindex
X-PUBLISHED-TTL:PT1H
BEGIN:VTIMEZONE
TZID:America/Indiana/Indianapolis
BEGIN:DAYLIGHT
TZOFFSETFROM:-0500
TZOFFSETTO:-0400
TZNAME:EDT
DTSTART:20240310T070000
END:DAYLIGHT
BEGIN:STANDARD
TZOFFSETFROM:-0400
TZOFFSETTO:-0500
TZNAME:EST
DTSTART:20241103T060000
END:STANDARD
BEGIN:DAYLIGHT
TZOFFSETFROM:-0500
TZOFFSETTO:-0400
TZNAME:EDT
DTSTART:20250309T070000
END:DAYLIGHT
BEGIN:STANDARD
TZOFFSETFROM:-0400
TZOFFSETTO:-0500
TZNAME:EST
DTSTART:20251102T060000
END:STANDARD
BEGIN:DAYLIGHT
TZOFFSETFROM:-0500
TZOFFSETTO:-0400
TZNAME:EDT
DTSTART:20260308T070000
END:DAYLIGHT
BEGIN:STANDARD
TZOFFSETFROM:-0400
TZOFFSETTO:-0500
TZNAME:EST
DTSTART:20261101T060000
END:STANDARD
END:VTIMEZONE
BEGIN:VEVENT
DTSTART;TZID=America/Indiana/Indianapolis:20250118T100000
DTEND;TZID=America/Indiana/Indianapolis:20250118T140000
DTSTAMP:20260424T132430
CREATED:20241105T213419Z
LAST-MODIFIED:20241105T220959Z
UID:5107-1737194400-1737208800@www.bloomingtonsymphony.com
SUMMARY:2025 Youth Concerto Competition Auditions
DESCRIPTION:  \nDeadline to apply is January 4\, 2025 at 11:59pm EST.  \nIn-person auditions are Saturday\, January 18\, 2025\, 10am-2pm at Faith Lutheran Church \n  \nThe Bloomington Symphony Orchestra invites local youth musicians to participate in the 2025 Youth Concerto Competition\, with a chance to perform a solo with the BSO and win up to $300. Any instrumentalist through high school from Monroe\, Brown\, Green\, Lawrence\, Morgan\, and Owen counties is eligible to participate. The deadline to submit an application is January 4\, 2025. The rules of participation and application can be found here.
URL:https://www.bloomingtonsymphony.com/event/2025-youth-concerto-competition-auditions/
LOCATION:IN
ATTACH;FMTTYPE=image/png:https://www.bloomingtonsymphony.com/wp-content/uploads/2024/10/violin-stars-for-YCC.png
END:VEVENT
END:VCALENDAR