BEGIN:VCALENDAR
VERSION:2.0
PRODID:-//Bloomington Symphony Orchestra - Indiana - ECPv6.15.10//NONSGML v1.0//EN
CALSCALE:GREGORIAN
METHOD:PUBLISH
X-ORIGINAL-URL:https://www.bloomingtonsymphony.com
X-WR-CALDESC:Events for Bloomington Symphony Orchestra - Indiana
REFRESH-INTERVAL;VALUE=DURATION:PT1H
X-Robots-Tag:noindex
X-PUBLISHED-TTL:PT1H
BEGIN:VTIMEZONE
TZID:America/Indiana/Indianapolis
BEGIN:DAYLIGHT
TZOFFSETFROM:-0500
TZOFFSETTO:-0400
TZNAME:EDT
DTSTART:20230312T070000
END:DAYLIGHT
BEGIN:STANDARD
TZOFFSETFROM:-0400
TZOFFSETTO:-0500
TZNAME:EST
DTSTART:20231105T060000
END:STANDARD
BEGIN:DAYLIGHT
TZOFFSETFROM:-0500
TZOFFSETTO:-0400
TZNAME:EDT
DTSTART:20240310T070000
END:DAYLIGHT
BEGIN:STANDARD
TZOFFSETFROM:-0400
TZOFFSETTO:-0500
TZNAME:EST
DTSTART:20241103T060000
END:STANDARD
BEGIN:DAYLIGHT
TZOFFSETFROM:-0500
TZOFFSETTO:-0400
TZNAME:EDT
DTSTART:20250309T070000
END:DAYLIGHT
BEGIN:STANDARD
TZOFFSETFROM:-0400
TZOFFSETTO:-0500
TZNAME:EST
DTSTART:20251102T060000
END:STANDARD
END:VTIMEZONE
BEGIN:VEVENT
DTSTART;TZID=America/Indiana/Indianapolis:20241203T190000
DTEND;TZID=America/Indiana/Indianapolis:20241203T200000
DTSTAMP:20260424T150422
CREATED:20240705T150956Z
LAST-MODIFIED:20241023T165732Z
UID:4917-1733252400-1733256000@www.bloomingtonsymphony.com
SUMMARY:Celebrate the Season at the Tivoli
DESCRIPTION:Join us in Spencer as we take our treasured holiday tradition on the road! This festive program will feature a mix of holiday music from around the world.  With a new “elf” leading us as Music Director\, you can expect a fresh treat or two!\n \nDecember 3\, 2024 at 7pm\nTivoli Theater\, Spencer\nTickets: https://spencertivoli.org\nStudents $5\, Adults $15\, \n  \nOr join us November 29\, 2024 at 5 pm and 8 pm (two shows)\nat the Buskirk-Chumley Theater in Bloomington\, IN\nGet your tickets HERE\nOr contact the Buskirk-Chumley Theater Box Office at 812-323-3020\nAdult $25\, Student $12\, Ages 18 and under $5Adult $25\, Student $12\, Ages 18 and under $5
URL:https://www.bloomingtonsymphony.com/event/tivoli2024/
LOCATION:Tivoli Theatre\, 24 N Washington St\, Spencer\, IN\, 47460
ORGANIZER;CN="Bloomington Symphony Orchestra":MAILTO:bso@bloomingtonsymphony.com
END:VEVENT
END:VCALENDAR