BEGIN:VCALENDAR
VERSION:2.0
PRODID:-//Bloomington Symphony Orchestra - Indiana - ECPv6.15.10//NONSGML v1.0//EN
CALSCALE:GREGORIAN
METHOD:PUBLISH
X-ORIGINAL-URL:https://www.bloomingtonsymphony.com
X-WR-CALDESC:Events for Bloomington Symphony Orchestra - Indiana
REFRESH-INTERVAL;VALUE=DURATION:PT1H
X-Robots-Tag:noindex
X-PUBLISHED-TTL:PT1H
BEGIN:VTIMEZONE
TZID:America/Indiana/Indianapolis
BEGIN:DAYLIGHT
TZOFFSETFROM:-0500
TZOFFSETTO:-0400
TZNAME:EDT
DTSTART:20230312T070000
END:DAYLIGHT
BEGIN:STANDARD
TZOFFSETFROM:-0400
TZOFFSETTO:-0500
TZNAME:EST
DTSTART:20231105T060000
END:STANDARD
BEGIN:DAYLIGHT
TZOFFSETFROM:-0500
TZOFFSETTO:-0400
TZNAME:EDT
DTSTART:20240310T070000
END:DAYLIGHT
BEGIN:STANDARD
TZOFFSETFROM:-0400
TZOFFSETTO:-0500
TZNAME:EST
DTSTART:20241103T060000
END:STANDARD
BEGIN:DAYLIGHT
TZOFFSETFROM:-0500
TZOFFSETTO:-0400
TZNAME:EDT
DTSTART:20250309T070000
END:DAYLIGHT
BEGIN:STANDARD
TZOFFSETFROM:-0400
TZOFFSETTO:-0500
TZNAME:EST
DTSTART:20251102T060000
END:STANDARD
END:VTIMEZONE
BEGIN:VEVENT
DTSTART;TZID=America/Indiana/Indianapolis:20240825T190000
DTEND;TZID=America/Indiana/Indianapolis:20240825T200000
DTSTAMP:20260424T211926
CREATED:20240630T154233Z
LAST-MODIFIED:20240819T170640Z
UID:4896-1724612400-1724616000@www.bloomingtonsymphony.com
SUMMARY:SHOWTIME! A Free BSO Concert at Switchyard Park
DESCRIPTION:The hills are alive…with the sound of music! This free\, family-friendly concert will showcase tunes from Broadway classics like A Chorus Line\, Les Misérables\, West Side Story\, The Sound of Music\, and more. Bloomington’s own Windfall Dancers will join us in some toe-tapping fun. Bring your dancing shoes\, and get ready to boogie with the BSO!\nSunday\, August 25 \n6pm Instrument Petting Zoo\n7 pm ConcertSwitchyard ParkFREE
URL:https://www.bloomingtonsymphony.com/event/summer2024/
LOCATION:Switchyard Park Main Stage\, 1601 S Rogers St\, Bloomington\, IN\, 47403\, United States
ATTACH;FMTTYPE=image/png:https://www.bloomingtonsymphony.com/wp-content/uploads/2024/06/Swingtime-Banner-Fb-event-cover-1.png
ORGANIZER;CN="Bloomington Symphony Orchestra":MAILTO:bso@bloomingtonsymphony.com
END:VEVENT
END:VCALENDAR