BEGIN:VCALENDAR
VERSION:2.0
PRODID:-//Bloomington Symphony Orchestra - Indiana - ECPv6.15.10//NONSGML v1.0//EN
CALSCALE:GREGORIAN
METHOD:PUBLISH
X-ORIGINAL-URL:https://www.bloomingtonsymphony.com
X-WR-CALDESC:Events for Bloomington Symphony Orchestra - Indiana
REFRESH-INTERVAL;VALUE=DURATION:PT1H
X-Robots-Tag:noindex
X-PUBLISHED-TTL:PT1H
BEGIN:VTIMEZONE
TZID:America/Indiana/Indianapolis
BEGIN:DAYLIGHT
TZOFFSETFROM:-0500
TZOFFSETTO:-0400
TZNAME:EDT
DTSTART:20250309T070000
END:DAYLIGHT
BEGIN:STANDARD
TZOFFSETFROM:-0400
TZOFFSETTO:-0500
TZNAME:EST
DTSTART:20251102T060000
END:STANDARD
BEGIN:DAYLIGHT
TZOFFSETFROM:-0500
TZOFFSETTO:-0400
TZNAME:EDT
DTSTART:20260308T070000
END:DAYLIGHT
BEGIN:STANDARD
TZOFFSETFROM:-0400
TZOFFSETTO:-0500
TZNAME:EST
DTSTART:20261101T060000
END:STANDARD
BEGIN:DAYLIGHT
TZOFFSETFROM:-0500
TZOFFSETTO:-0400
TZNAME:EDT
DTSTART:20270314T070000
END:DAYLIGHT
BEGIN:STANDARD
TZOFFSETFROM:-0400
TZOFFSETTO:-0500
TZNAME:EST
DTSTART:20271107T060000
END:STANDARD
END:VTIMEZONE
BEGIN:VEVENT
DTSTART;TZID=America/Indiana/Indianapolis:20260308T170000
DTEND;TZID=America/Indiana/Indianapolis:20260308T183000
DTSTAMP:20260423T182710
CREATED:20250606T183957Z
LAST-MODIFIED:20260302T225536Z
UID:5362-1772989200-1772994600@www.bloomingtonsymphony.com
SUMMARY:Between Silence and Strauss - Concert at Buskirk-Chumley Theater
DESCRIPTION:CLICK HERE for tickets\navailable through the Buskirk-Chumley Box Office.\nChildren FREE\, Students $16\, Adults $29.\nGeneral Admission Seating \nSoloist Shawn Tairyu Head joins the orchestra for Hosokawa’s Autumn Wind for Shakuhachi and Orchestra as a collaboration with IU Asian Culture Center. Also on the program is songs from the Strauss’s Rosenkavalier Suite\, and 2026 Youth Concerto Competition winner Ella Hightower performing Dvorak’s Concerto for Violin\, Allegro ma non troppo. \n4:15pm pre-concert talk\n5:00pm concert – Repertoire: \nSongs from Richard Strauss\nFeierlicher Einzug\n“Morgen!” Op. 27\, No. 4\, with vocalist Siyi Yan\n“Allerseelen”\, with vocalist Danielle Long \nfrom Der Rosenkavalier:\n“Presentation of the Rose”\, with vocalists Siyi Yan and Danielle Long\nFinal trio\, with vocalists Siyi Yan\, Danielle Long\, and Rachel Spodek \nAntonín Dvořák\, Concerto for Violin\, Allegro ma non troppo\, with Ella Hightower – 2026 BSO Youth Concerto Competition Winner \nKosaku Yamada\, Flower of Mandala \nToshio Hosokawa\, Autumn Wind for Shakuhachi and Orchestra\, with Shawn Tairyu Head – shakuhachi soloist \n \n 
URL:https://www.bloomingtonsymphony.com/event/silencestrauss/
LOCATION:Buskirk-Chumley Theater\, 114 E. Kirkwood Avenue\, Bloomington\, IN\, 47408\, United States
ORGANIZER;CN="Bloomington Symphony Orchestra":MAILTO:bso@bloomingtonsymphony.com
END:VEVENT
BEGIN:VEVENT
DTSTART;TZID=America/Indiana/Indianapolis:20260516T190000
DTEND;TZID=America/Indiana/Indianapolis:20260516T203000
DTSTAMP:20260423T182710
CREATED:20250606T184239Z
LAST-MODIFIED:20260420T001936Z
UID:5366-1778958000-1778963400@www.bloomingtonsymphony.com
SUMMARY:Resounding Joy: Beethoven 9 at the MAC
DESCRIPTION:Get your tickets now\n  \nWhat is it about Beethoven’s 9th Symphony that sets it apart? Maybe it’s the innovative musical structure. Maybe it’s the way Beethoven blends themes of chaos\, redemption\, grace\, and struggle so effortlessly. Or it could be that this piece culminates\, as John Henken of the LA Philharmonic writes\, “expressing our highest aspirations with music of life-affirming exaltation.” \nFor the first time in our history the BSO will perform Beethoven’s iconic 9th Symphony. Joined by a 100+ member community chorus on the stage of Indiana University’s Musical Arts Center (MAC)\, this is sure to be an unforgettable concert experience that will also feature a world premiere piece by Daixuan Ai. \nParticipating choirs include the Bloomington Chamber Singers (Caio Lopes\, director)\, Voces Novae (Sue Swaney\, director) and the choir of the Unitarian Universalist Church (Sue Swaney\, director)\, as well as individuals from many other local choirs. The choirs are all coming together under the direction of Dr. Betsy Burleigh. \nVocal soloists:Soprano: Natalie FriedrichAlto: Esther JoTenor: Suro KimBass: Stephen Stavnicky \nAdults: $25\, Students: $12\, Children under 18: Free\nSaturday May 16\, 2026\, at the IU Musical Arts Center\n6:15pm pre-concert talk\n7:00pm concert \nGet your tickets now
URL:https://www.bloomingtonsymphony.com/event/joy/
LOCATION:IU Musical Arts Center\, 105 N Eagleson Ave\, Bloomington\, IN\, 47406\, United States
ATTACH;FMTTYPE=image/png:https://www.bloomingtonsymphony.com/wp-content/uploads/2025/06/2026-05-Joy-FB-Header-1.png
ORGANIZER;CN="Bloomington Symphony Orchestra":MAILTO:bso@bloomingtonsymphony.com
END:VEVENT
END:VCALENDAR