BEGIN:VCALENDAR
VERSION:2.0
PRODID:-//Bloomington Symphony Orchestra - Indiana - ECPv6.15.10//NONSGML v1.0//EN
CALSCALE:GREGORIAN
METHOD:PUBLISH
X-WR-CALNAME:Bloomington Symphony Orchestra - Indiana
X-ORIGINAL-URL:https://www.bloomingtonsymphony.com
X-WR-CALDESC:Events for Bloomington Symphony Orchestra - Indiana
REFRESH-INTERVAL;VALUE=DURATION:PT1H
X-Robots-Tag:noindex
X-PUBLISHED-TTL:PT1H
BEGIN:VTIMEZONE
TZID:America/Indiana/Indianapolis
BEGIN:DAYLIGHT
TZOFFSETFROM:-0500
TZOFFSETTO:-0400
TZNAME:EDT
DTSTART:20240310T070000
END:DAYLIGHT
BEGIN:STANDARD
TZOFFSETFROM:-0400
TZOFFSETTO:-0500
TZNAME:EST
DTSTART:20241103T060000
END:STANDARD
BEGIN:DAYLIGHT
TZOFFSETFROM:-0500
TZOFFSETTO:-0400
TZNAME:EDT
DTSTART:20250309T070000
END:DAYLIGHT
BEGIN:STANDARD
TZOFFSETFROM:-0400
TZOFFSETTO:-0500
TZNAME:EST
DTSTART:20251102T060000
END:STANDARD
BEGIN:DAYLIGHT
TZOFFSETFROM:-0500
TZOFFSETTO:-0400
TZNAME:EDT
DTSTART:20260308T070000
END:DAYLIGHT
BEGIN:STANDARD
TZOFFSETFROM:-0400
TZOFFSETTO:-0500
TZNAME:EST
DTSTART:20261101T060000
END:STANDARD
END:VTIMEZONE
BEGIN:VEVENT
DTSTART;TZID=America/Indiana/Indianapolis:20250403T173000
DTEND;TZID=America/Indiana/Indianapolis:20250403T183000
DTSTAMP:20260424T100833
CREATED:20250125T185445Z
LAST-MODIFIED:20250221T213601Z
UID:5201-1743701400-1743705000@www.bloomingtonsymphony.com
SUMMARY:“Simply Brilliant” – A Free Performance of Hansel and Gretel\, April 3\, 2025
DESCRIPTION:Timothy McShea of the Johns Hopkins News-Letter called Nicholas Hersh‘s adaptation of Hansel and Gretel “absolutely flawless.” \n“The classical vocal performances paired with heavy jungle beats and jazz solos created a clash of musical traditions that seemed so outrageous on paper yet absolutely thrived onstage. The more quirky\, whimsical performance of the singers\, with their bizarre facial expressions and direct communications with the audience\, felt right at home with the wild yet controlled nature of the musicians. The musical adaptation [of the original opera by Englebert Humperdinck] by Nicholas Hersh was simply brilliant.” \nDon’t miss your chance to experience this magical retelling of the classic fairy tale in a FREE concert! The Bloomington Symphony Orchestra is partnering with Reimagining Opera For Kids to present this 45 minute program at the Monroe County Public Library Auditorium (downtown) for 2 perfomances:\nThursday\, April 3\, 2025 at 5:30 pm\nSaturday\, April 5\, 2025 at 11:00 am \nThis performance is made possible by a generous grant from the Bloomington Arts Commission. \nFREE for all ages\, donations accepted.
URL:https://www.bloomingtonsymphony.com/event/hansel1/
LOCATION:Monroe County Public Library Downtown – Auditorium\, 303 E. Kirkwood Avenue\, Bloomington\, IN\, 47408
ATTACH;FMTTYPE=image/jpeg:https://www.bloomingtonsymphony.com/wp-content/uploads/2025/01/Hansel-and-Gretel-FB-event-banner-1-scaled.jpg
ORGANIZER;CN="Bloomington Symphony Orchestra":MAILTO:bso@bloomingtonsymphony.com
END:VEVENT
END:VCALENDAR