BEGIN:VCALENDAR
VERSION:2.0
PRODID:-//Bloomington Symphony Orchestra - Indiana - ECPv6.15.10//NONSGML v1.0//EN
CALSCALE:GREGORIAN
METHOD:PUBLISH
X-ORIGINAL-URL:https://www.bloomingtonsymphony.com
X-WR-CALDESC:Events for Bloomington Symphony Orchestra - Indiana
REFRESH-INTERVAL;VALUE=DURATION:PT1H
X-Robots-Tag:noindex
X-PUBLISHED-TTL:PT1H
BEGIN:VTIMEZONE
TZID:America/Indiana/Indianapolis
BEGIN:DAYLIGHT
TZOFFSETFROM:-0500
TZOFFSETTO:-0400
TZNAME:EDT
DTSTART:20230312T070000
END:DAYLIGHT
BEGIN:STANDARD
TZOFFSETFROM:-0400
TZOFFSETTO:-0500
TZNAME:EST
DTSTART:20231105T060000
END:STANDARD
BEGIN:DAYLIGHT
TZOFFSETFROM:-0500
TZOFFSETTO:-0400
TZNAME:EDT
DTSTART:20240310T070000
END:DAYLIGHT
BEGIN:STANDARD
TZOFFSETFROM:-0400
TZOFFSETTO:-0500
TZNAME:EST
DTSTART:20241103T060000
END:STANDARD
BEGIN:DAYLIGHT
TZOFFSETFROM:-0500
TZOFFSETTO:-0400
TZNAME:EDT
DTSTART:20250309T070000
END:DAYLIGHT
BEGIN:STANDARD
TZOFFSETFROM:-0400
TZOFFSETTO:-0500
TZNAME:EST
DTSTART:20251102T060000
END:STANDARD
END:VTIMEZONE
BEGIN:VEVENT
DTSTART;TZID=America/Indiana/Indianapolis:20241030T183000
DTEND;TZID=America/Indiana/Indianapolis:20241030T193000
DTSTAMP:20260424T175610
CREATED:20241005T185151Z
LAST-MODIFIED:20241023T165520Z
UID:5046-1730313000-1730316600@www.bloomingtonsymphony.com
SUMMARY:Chamber Music 4 Everyone
DESCRIPTION:Wait a minute\, I’m seeing double(double)! But you don’t need your eyes checked…there really are a lot of number 4s in our upcoming chamber concert… \n4 “big” names: Handel\, Holst\, Vivaldi\, Weber\nConcerto in B minor for 4 Violins\nQuartet for 4 Violins\n4 Pieces for Horn Choir \n…and so much more! Please join us FOUR an evening of chamber music from around the world\, featuring our talented BSO musicians in an intimate setting. \nWednesday\, October 30th\, 6:30 PM at First United Church\, 2420 E 3rd St \nWe’re delighted to offer FREE admission\, but we do appreciate donations.
URL:https://www.bloomingtonsymphony.com/event/chamber2024/
LOCATION:First United Church\, 2420 E 3rd St\, Bloomington\, IN\, 47401\, United States
ORGANIZER;CN="Bloomington Symphony Orchestra":MAILTO:bso@bloomingtonsymphony.com
END:VEVENT
END:VCALENDAR