BEGIN:VCALENDAR
VERSION:2.0
PRODID:-//Bloomington Symphony Orchestra - Indiana - ECPv6.15.10//NONSGML v1.0//EN
CALSCALE:GREGORIAN
METHOD:PUBLISH
X-ORIGINAL-URL:https://www.bloomingtonsymphony.com
X-WR-CALDESC:Events for Bloomington Symphony Orchestra - Indiana
REFRESH-INTERVAL;VALUE=DURATION:PT1H
X-Robots-Tag:noindex
X-PUBLISHED-TTL:PT1H
BEGIN:VTIMEZONE
TZID:America/Indiana/Indianapolis
BEGIN:DAYLIGHT
TZOFFSETFROM:-0500
TZOFFSETTO:-0400
TZNAME:EDT
DTSTART:20220313T070000
END:DAYLIGHT
BEGIN:STANDARD
TZOFFSETFROM:-0400
TZOFFSETTO:-0500
TZNAME:EST
DTSTART:20221106T060000
END:STANDARD
BEGIN:DAYLIGHT
TZOFFSETFROM:-0500
TZOFFSETTO:-0400
TZNAME:EDT
DTSTART:20230312T070000
END:DAYLIGHT
BEGIN:STANDARD
TZOFFSETFROM:-0400
TZOFFSETTO:-0500
TZNAME:EST
DTSTART:20231105T060000
END:STANDARD
BEGIN:DAYLIGHT
TZOFFSETFROM:-0500
TZOFFSETTO:-0400
TZNAME:EDT
DTSTART:20240310T070000
END:DAYLIGHT
BEGIN:STANDARD
TZOFFSETFROM:-0400
TZOFFSETTO:-0500
TZNAME:EST
DTSTART:20241103T060000
END:STANDARD
END:VTIMEZONE
BEGIN:VEVENT
DTSTART;TZID=America/Indiana/Indianapolis:20230513T153000
DTEND;TZID=America/Indiana/Indianapolis:20230513T180000
DTSTAMP:20260425T230836
CREATED:20230413T123723Z
LAST-MODIFIED:20230513T041200Z
UID:4160-1683991800-1684000800@www.bloomingtonsymphony.com
SUMMARY:A Fanfare Farewell - Open Rehearsal and Reception
DESCRIPTION:Join the BSO to say so long and good luck to our conductor of the past 6 seasons\, Alejandro Gómez Guillén\, as he prepares to conduct his last concert with the BSO as Artistic Director. \nSaturday\, May 13th\, 2023\, 3:30-6:00 PM \n3:30-4:30 PM: Come watch the Maestro in his element leading the BSO in an open rehearsal for the next day’s Legends concert.\n4:30-600 PM: A reception with snacks and refreshments. \nFaith Lutheran Church Gymnasium (map)\n2200 S High St\nBloomington\, IN 47401 \n  \nTickets for the reception are $19.69 in honor of our founding year\, and can be paid by making a donaton online\, or pay at the door with cash\, check\, credit card\, paypal\, venmo. We aren’t accepting RSVPs any more\, but you we still have seats available so come and pay at the door.  \nAnd don’t forget to get your tickets for our concert\, Imagine: Legends\, Sunday May 14\, 5pm at the Buskirk-Chumley Theater. \n  \n 
URL:https://www.bloomingtonsymphony.com/event/fanfare/
LOCATION:Faith Lutheran Church Gym\, 2200 S. High Street\, Bloomington\, IN\, 47401
ORGANIZER;CN="Bloomington Symphony Orchestra":MAILTO:bso@bloomingtonsymphony.com
END:VEVENT
END:VCALENDAR